BEGIN:VCALENDAR
VERSION:2.0
CALSCALE:GREGORIAN
PRODID:adamgibbons/ics
METHOD:PUBLISH
X-PUBLISHED-TTL:PT1H
BEGIN:VEVENT
UID:21095@offbeat.amsterdam
SUMMARY:DÉLAGE + JACOB DWYER + DJ STEFHANJA
DTSTAMP:20260422T201752Z
DTSTART:20260606T183000Z
URL:https://offbeat.amsterdam/event/delage-jacob-dwyer-dj-stefhanja
GEO:52.354338;4.8553367
LOCATION:OCCII - Amstelveenseweg 134\, 1075 XL Amsterdam
STATUS:CONFIRMED
CATEGORIES:amsterdam-zuid,books,bubble-gum pop,community,dj,garage-rock,mus
	ic,nouveau wave,opening,punk,rock,schinkelbuurt
END:VEVENT
END:VCALENDAR
